BEGIN:VCALENDAR
VERSION:2.0
PRODID:icalendar-ruby
CALSCALE:GREGORIAN
METHOD:PUBLISH
BEGIN:VEVENT
DTSTAMP:20260423T101102Z
UID:5-2915446@spfamilychurch.ca
DTSTART:20260809T143000Z
DTEND:20260809T153000Z
CLASS:PUBLIC
CREATED:20260422T205927
DESCRIPTION:Sunday Online Worship Service
LAST-MODIFIED:20260422T205927
LOCATION:
SUMMARY:Sunday Worship Service
URL;VALUE=URI:https://www.spfamilychurch.ca/events/sunday-worship-service/2
 026-08-09
ATTACH;FILENAME=Sunday Worship Service.png;FMTTYPE=image/png:https://dq5pwp
 g1q8ru0.cloudfront.net/2022/01/07/10/39/06/f4eb87c8-080b-4852-808a-792153d
 c366e/Sunday%20Worship%20Service.png
END:VEVENT
END:VCALENDAR
